BEGIN:VCALENDAR
VERSION:2.0
PRODID:-//Ehime AJET - ECPv6.15.20//NONSGML v1.0//EN
CALSCALE:GREGORIAN
METHOD:PUBLISH
X-ORIGINAL-URL:https://ehimeajet.com
X-WR-CALDESC:Events for Ehime AJET
REFRESH-INTERVAL;VALUE=DURATION:PT1H
X-Robots-Tag:noindex
X-PUBLISHED-TTL:PT1H
BEGIN:VTIMEZONE
TZID:Asia/Tokyo
BEGIN:STANDARD
TZOFFSETFROM:+0900
TZOFFSETTO:+0900
TZNAME:JST
DTSTART:20230101T000000
END:STANDARD
END:VTIMEZONE
BEGIN:VEVENT
DTSTART;TZID=Asia/Tokyo:20241026T070000
DTEND;TZID=Asia/Tokyo:20241026T160000
DTSTAMP:20260424T002205
CREATED:20241001T021613Z
LAST-MODIFIED:20241024T092224Z
UID:6325-1729926000-1729958400@ehimeajet.com
SUMMARY:Mt. Ishizuchi Climb
DESCRIPTION:Join us for an epic adventure up Mt. Ishizuchi! 🌄 \n\n\n\n🗓 When: Saturday\, October 26th⏳ Duration: 6-7 hours ascension(9 km\, 970 m elevation gain)🍂 Trail: Tozan Ropeway with stunning autumn colors! We anticipate peak autumn on the day of the climb (crossed fingers) \n\n\n\n🚨 Note: Early morning hike—set your alarms! \n\n\n\n📍 Starting point: Tozan Ropeway \n\n\n\nQuestions? Email us at ehimeajet@gmail.com. (For other areas) \n\n\n\n \n\n\n\nSign-Up here: https://forms.gle/ZdMNhUVeY41jtz8f8
URL:https://ehimeajet.com/events/mt-ishizuchi-climb/
LOCATION:Tozan Ropeway
ATTACH;FMTTYPE=image/png:https://ehimeajet.com/wp-content/uploads/2024/10/IMG_1901.png
END:VEVENT
END:VCALENDAR