BEGIN:VCALENDAR
VERSION:2.0
PRODID:-//Ehime AJET - ECPv6.15.20//NONSGML v1.0//EN
CALSCALE:GREGORIAN
METHOD:PUBLISH
X-WR-CALNAME:Ehime AJET
X-ORIGINAL-URL:https://ehimeajet.com
X-WR-CALDESC:Events for Ehime AJET
REFRESH-INTERVAL;VALUE=DURATION:PT1H
X-Robots-Tag:noindex
X-PUBLISHED-TTL:PT1H
BEGIN:VTIMEZONE
TZID:Asia/Tokyo
BEGIN:STANDARD
TZOFFSETFROM:+0900
TZOFFSETTO:+0900
TZNAME:JST
DTSTART:20220101T000000
END:STANDARD
END:VTIMEZONE
BEGIN:VEVENT
DTSTART;TZID=Asia/Tokyo:20230729T200000
DTEND;TZID=Asia/Tokyo:20230730T210000
DTSTAMP:20260421T204440
CREATED:20230612T014816Z
LAST-MODIFIED:20230619T090419Z
UID:4477-1690660800-1690750800@ehimeajet.com
SUMMARY:Iyosai Festival
DESCRIPTION:The summer festival that has been held for many years under the name “Iyo City Sumiyoshi Festival” has been changed in terms of the event date and name to “Iyosai Festival\,” becoming the summer festival for the citizens of Iyo City. It is held annually on the last Saturday and Sunday of July. \n\n\n\nOn the 29th (Saturday)\, events such as the “Children’s Fish Catching Competition” and the “Iyo Dance Parade” will take place. On the 30th (Sunday)\, various events will be held in and around Iyo Port and the shopping district. The festival will reach its climax in the evening with a fireworks display at the port (approximately 6\,000 fireworks are scheduled to be launched).
URL:https://ehimeajet.com/events/iyosai-fireworks-festival/
LOCATION:Iyo Port\, 355 Nadamachi\, Iyo\, Ehime\, 799-3114\, Japan
CATEGORIES:Festivals
ATTACH;FMTTYPE=image/jpeg:https://ehimeajet.com/wp-content/uploads/2023/06/354572386_644210861074348_8427100507500323229_n-1.jpg
END:VEVENT
BEGIN:VEVENT
DTSTART;TZID=Asia/Tokyo:20230729T140000
DTEND;TZID=Asia/Tokyo:20230729T210000
DTSTAMP:20260421T204440
CREATED:20230619T100810Z
LAST-MODIFIED:20230619T100811Z
UID:4551-1690639200-1690664400@ehimeajet.com
SUMMARY:Matsuyama Saturday Night Market
DESCRIPTION:Every Saturday\, there will be vendors selling food and wares throughout Okaido and Gintengai until 9pm.
URL:https://ehimeajet.com/events/matsuyama-saturday-night-market-7/
LOCATION:Okaido\, 790-0004
CATEGORIES:Festivals
ATTACH;FMTTYPE=image/jpeg:https://ehimeajet.com/wp-content/uploads/2023/06/doyoichi2023.jpg
END:VEVENT
BEGIN:VEVENT
DTSTART;TZID=Asia/Tokyo:20230722T140000
DTEND;TZID=Asia/Tokyo:20230722T210000
DTSTAMP:20260421T204440
CREATED:20230619T100707Z
LAST-MODIFIED:20230619T100708Z
UID:4549-1690034400-1690059600@ehimeajet.com
SUMMARY:Matsuyama Saturday Night Market
DESCRIPTION:Every Saturday\, there will be vendors selling food and wares throughout Okaido and Gintengai until 9pm.
URL:https://ehimeajet.com/events/matsuyama-saturday-night-market-6/
LOCATION:Okaido\, 790-0004
CATEGORIES:Festivals
ATTACH;FMTTYPE=image/jpeg:https://ehimeajet.com/wp-content/uploads/2023/06/doyoichi2023.jpg
END:VEVENT
BEGIN:VEVENT
DTSTART;TZID=Asia/Tokyo:20230722T100000
DTEND;TZID=Asia/Tokyo:20230724T150000
DTSTAMP:20260421T204440
CREATED:20230521T150031Z
LAST-MODIFIED:20230612T012937Z
UID:4214-1690020000-1690210800@ehimeajet.com
SUMMARY:Uwajima Ushi-Oni Festival 2023
DESCRIPTION:The Uwajima Ushi-Oni Festival is one of Ehime’s biggest events\, featuring the famous ushi-oni\, or “cow ogre.” The highlight of the festival is the parade of ushi-oni floats throughout Uwajima\, some will even visit local residents and purify their home!
URL:https://ehimeajet.com/events/uwajima-ushi-oni-festival-2023/
LOCATION:Kisaiya Road (Ushi-Oni Street)\, Chuocho\, Uwajima\, Ehime\, 798-0040\, Japan
CATEGORIES:Festivals
ATTACH;FMTTYPE=image/png:https://ehimeajet.com/wp-content/uploads/2023/05/ushioni.png
END:VEVENT
BEGIN:VEVENT
DTSTART;TZID=Asia/Tokyo:20230715T140000
DTEND;TZID=Asia/Tokyo:20230715T210000
DTSTAMP:20260421T204440
CREATED:20230619T100636Z
LAST-MODIFIED:20230619T100637Z
UID:4547-1689429600-1689454800@ehimeajet.com
SUMMARY:Matsuyama Saturday Night Market
DESCRIPTION:Every Saturday\, there will be vendors selling food and wares throughout Okaido and Gintengai until 9pm.
URL:https://ehimeajet.com/events/matsuyama-saturday-night-market-5/
LOCATION:Okaido\, 790-0004
CATEGORIES:Festivals
ATTACH;FMTTYPE=image/jpeg:https://ehimeajet.com/wp-content/uploads/2023/06/doyoichi2023.jpg
END:VEVENT
BEGIN:VEVENT
DTSTART;TZID=Asia/Tokyo:20230708T140000
DTEND;TZID=Asia/Tokyo:20230708T210000
DTSTAMP:20260421T204440
CREATED:20230619T100607Z
LAST-MODIFIED:20230619T100609Z
UID:4545-1688824800-1688850000@ehimeajet.com
SUMMARY:Matsuyama Saturday Night Market
DESCRIPTION:Every Saturday\, there will be vendors selling food and wares throughout Okaido and Gintengai until 9pm.
URL:https://ehimeajet.com/events/matsuyama-saturday-night-market-4/
LOCATION:Okaido\, 790-0004
CATEGORIES:Festivals
ATTACH;FMTTYPE=image/jpeg:https://ehimeajet.com/wp-content/uploads/2023/06/doyoichi2023.jpg
END:VEVENT
BEGIN:VEVENT
DTSTART;TZID=Asia/Tokyo:20230701T140000
DTEND;TZID=Asia/Tokyo:20230701T210000
DTSTAMP:20260421T204440
CREATED:20230619T100504Z
LAST-MODIFIED:20230619T100506Z
UID:4543-1688220000-1688245200@ehimeajet.com
SUMMARY:Matsuyama Saturday Night Market
DESCRIPTION:Every Saturday\, there will be vendors selling food and wares throughout Okaido and Gintengai until 9pm.
URL:https://ehimeajet.com/events/matsuyama-saturday-night-market-3/
LOCATION:Okaido\, 790-0004
CATEGORIES:Festivals
ATTACH;FMTTYPE=image/jpeg:https://ehimeajet.com/wp-content/uploads/2023/06/doyoichi2023.jpg
END:VEVENT
BEGIN:VEVENT
DTSTART;TZID=Asia/Tokyo:20230624T140000
DTEND;TZID=Asia/Tokyo:20230624T210000
DTSTAMP:20260421T204440
CREATED:20230619T100316Z
LAST-MODIFIED:20230619T100317Z
UID:4541-1687615200-1687640400@ehimeajet.com
SUMMARY:Matsuyama Saturday Night Market
DESCRIPTION:Every Saturday\, there will be vendors selling food and wares throughout Okaido and Gintengai until 9pm.
URL:https://ehimeajet.com/events/matsuyama-saturday-night-market-2/
LOCATION:Okaido\, 790-0004
CATEGORIES:Festivals
ATTACH;FMTTYPE=image/jpeg:https://ehimeajet.com/wp-content/uploads/2023/06/doyoichi2023.jpg
END:VEVENT
BEGIN:VEVENT
DTSTART;TZID=Asia/Tokyo:20230617T140000
DTEND;TZID=Asia/Tokyo:20230617T210000
DTSTAMP:20260421T204440
CREATED:20230612T015404Z
LAST-MODIFIED:20230619T100223Z
UID:4485-1687010400-1687035600@ehimeajet.com
SUMMARY:Matsuyama Saturday Night Market
DESCRIPTION:Every Saturday\, there will be vendors selling food and wares throughout Okaido and Gintengai until 9pm.
URL:https://ehimeajet.com/events/matsuyama-saturday-night-market/
LOCATION:Okaido\, 790-0004
CATEGORIES:Festivals
ATTACH;FMTTYPE=image/jpeg:https://ehimeajet.com/wp-content/uploads/2023/06/doyoichi2023.jpg
END:VEVENT
BEGIN:VEVENT
DTSTART;TZID=Asia/Tokyo:20230603T100000
DTEND;TZID=Asia/Tokyo:20230604T180000
DTSTAMP:20260421T204440
CREATED:20230602T150045Z
LAST-MODIFIED:20230612T012815Z
UID:4207-1685786400-1685901600@ehimeajet.com
SUMMARY:Uwajima Hawaiian Festival 2023
DESCRIPTION:A taste of Hawaii is coming to Ehime! Come to Uwajima for guest performances\, delicious food\, and fun activities!
URL:https://ehimeajet.com/events/uwajima-hawaiian-festival-2023/
LOCATION:Roadside Station Uwajima Kisaiya Hiroba\, 1-318-16 Bentencho\, Uwajima\, Ehime\, 798-0006\, Japan
CATEGORIES:Festivals
ATTACH;FMTTYPE=image/jpeg:https://ehimeajet.com/wp-content/uploads/2023/05/uwajimahawaiianfestival.jpg
END:VEVENT
BEGIN:VEVENT
DTSTART;TZID=Asia/Tokyo:20230528T083000
DTEND;TZID=Asia/Tokyo:20230528T153000
DTSTAMP:20260421T204440
CREATED:20230527T150036Z
LAST-MODIFIED:20230612T012650Z
UID:4186-1685262600-1685287800@ehimeajet.com
SUMMARY:Hijikawa Kawabiraki Festival 2023
DESCRIPTION:In Japan\, “kawabiraki” festivals mark the start of boating season. Celebrate the beginning of summer in true Ozu style with relaying races\, Ukai cormorant fishing\, canoeing\, SUP paddleboarding\, Hijikawa river crossing and a marketplace.
URL:https://ehimeajet.com/events/hijikawa-kawabiraki-festival-2023/
LOCATION:Hijikawa Ryokuchi Park\, 424 Nakamura\, Ozu\, Ehime\, 795-0054\, Japan
CATEGORIES:Festivals
ATTACH;FMTTYPE=image/png:https://ehimeajet.com/wp-content/uploads/2023/05/kawabiraki.png
END:VEVENT
BEGIN:VEVENT
DTSTART;TZID=Asia/Tokyo:20230527T120000
DTEND;TZID=Asia/Tokyo:20230528T150000
DTSTAMP:20260421T204440
CREATED:20230526T150033Z
LAST-MODIFIED:20230612T012555Z
UID:4197-1685188800-1685286000@ehimeajet.com
SUMMARY:Tokushima Yokai Festival 2023
DESCRIPTION:Head to Tokushima for the very first Shikoku Yokai Festival! Learn about yokai folklore from all across Japan. There will also be food\, performances\, and fun activities throughout the day.
URL:https://ehimeajet.com/events/tokushima-yokai-festival-2023/
LOCATION:Roadside Station Oboke\, 1553-1 Yamashirocho\, Miyoshi\, Tokushima\, 779-5452\, Japan
CATEGORIES:Festivals
ATTACH;FMTTYPE=image/jpeg:https://ehimeajet.com/wp-content/uploads/2023/05/yokaifestival.jpg
ORGANIZER;CN="Shikoku Yokai Festival Executive Committee":MAILTO:lapis@yamashiro-info.jp
END:VEVENT
BEGIN:VEVENT
DTSTART;TZID=Asia/Tokyo:20230513T000000
DTEND;TZID=Asia/Tokyo:20230513T235959
DTSTAMP:20260421T204440
CREATED:20230512T150035Z
LAST-MODIFIED:20230612T012544Z
UID:2844-1683936000-1684022399@ehimeajet.com
SUMMARY:Uchiko German Festa 2023
DESCRIPTION:Come down to Uchiko’s “Uchi-no-ko” Plaza and the Jichi Center on 13th of May 2023 for the Doitsu (German) Festa 2023! There will be German food; German music by Musikanten am See and Wind Ensemble Kites; alphorns and of course\, German beer! Advance reservation is 2400 (2500 on the day of).
URL:https://ehimeajet.com/events/uchiko-german-festa-2023/
LOCATION:Uchiko Jichi Center\, 内子町内子3427\, 内子\, Ehime\, 〒791-3301\, Japan
CATEGORIES:Festivals
ATTACH;FMTTYPE=image/jpeg:https://ehimeajet.com/wp-content/uploads/2023/04/doitsufesta2023.jpg
END:VEVENT
BEGIN:VEVENT
DTSTART;TZID=Asia/Tokyo:20230503T080000
DTEND;TZID=Asia/Tokyo:20230504T170000
DTSTAMP:20260421T204440
CREATED:20230502T150039Z
LAST-MODIFIED:20230612T012523Z
UID:3923-1683100800-1683219600@ehimeajet.com
SUMMARY:Hojo Kashima Festival 2023
DESCRIPTION:The Hojo area of Matsuyama is holding the Kashima Festival from May 3rd to May 4th. On May 3rd\, the first day of the festival\, the Kaineri Odori will be held on the shores of Kashima Island. The following day\, a large shimenawa rope that weighs about 1 ton will be replaced in Tamari and Kantojima in Kashima Island.
URL:https://ehimeajet.com/events/hojo-kashima-festival-2023/
LOCATION:Kashima Shrine\, 北条辻1595\, 松山市\, 愛媛県\, 〒799-2430\, Japan
CATEGORIES:Festivals
ATTACH;FMTTYPE=image/jpeg:https://ehimeajet.com/wp-content/uploads/2023/04/12-1-1.jpg
END:VEVENT
END:VCALENDAR