BEGIN:VCALENDAR
VERSION:2.0
PRODID:-//Ehime AJET - ECPv6.15.20//NONSGML v1.0//EN
CALSCALE:GREGORIAN
METHOD:PUBLISH
X-WR-CALNAME:Ehime AJET
X-ORIGINAL-URL:https://ehimeajet.com
X-WR-CALDESC:Events for Ehime AJET
REFRESH-INTERVAL;VALUE=DURATION:PT1H
X-Robots-Tag:noindex
X-PUBLISHED-TTL:PT1H
BEGIN:VTIMEZONE
TZID:Asia/Tokyo
BEGIN:STANDARD
TZOFFSETFROM:+0900
TZOFFSETTO:+0900
TZNAME:JST
DTSTART:20180101T000000
END:STANDARD
END:VTIMEZONE
BEGIN:VEVENT
DTSTART;TZID=Asia/Tokyo:20231129T180000
DTEND;TZID=Asia/Tokyo:20231129T200000
DTSTAMP:20260421T125046
CREATED:20231114T004459Z
LAST-MODIFIED:20231114T004500Z
UID:5308-1701280800-1701288000@ehimeajet.com
SUMMARY:2023 SDC Enkai
DESCRIPTION:Join us November 29th for the 2023 SDC Enkai at the Chakura Restaurant near Okaido! Sign up by November 22nd to get your spot at the SDC Enkai!
URL:https://ehimeajet.com/events/2023-sdc-enkai/
LOCATION:Chakura (茶蔵)\, Nibancho\, 2 Chome−５−17\, Matsuyama\, Ehime\, 790-0002\, Japan
CATEGORIES:AJET Events,Parties
ATTACH;FMTTYPE=image/png:https://ehimeajet.com/wp-content/uploads/2023/11/image-1.png
ORGANIZER;CN="Ehime AJET":MAILTO:ehimeajet@gmail.com
END:VEVENT
BEGIN:VEVENT
DTSTART;TZID=Asia/Tokyo:20231029T130000
DTEND;TZID=Asia/Tokyo:20231029T160000
DTSTAMP:20260421T125046
CREATED:20231024T023055Z
LAST-MODIFIED:20231024T023057Z
UID:5222-1698584400-1698595200@ehimeajet.com
SUMMARY:Ehime AJET Halloween Party
DESCRIPTION:Join Ehime AJET at the Imabari City International Exchange Association (ICIEA) as we celebrate the Spooky Season! This is a free event but bring snacks/drinks as well as your costumes!
URL:https://ehimeajet.com/events/ehime-ajet-halloween-party/
LOCATION:Imabari City International Exchange Association (ICIEA)\, 2-5-1 Minamidaimoncho\, Imabari\, 794-0027\, Japan
CATEGORIES:AJET Events,Parties
ATTACH;FMTTYPE=image/jpeg:https://ehimeajet.com/wp-content/uploads/2023/10/1698114576827.jpg
ORGANIZER;CN="Ehime AJET":MAILTO:ehimeajet@gmail.com
END:VEVENT
BEGIN:VEVENT
DTSTART;TZID=Asia/Tokyo:20230824T170000
DTEND;TZID=Asia/Tokyo:20230824T220000
DTSTAMP:20260421T125046
CREATED:20230731T075815Z
LAST-MODIFIED:20230823T123830Z
UID:4872-1692896400-1692914400@ehimeajet.com
SUMMARY:Ehime AJET New JET Welcome Party
DESCRIPTION:Join us August 24th from 5:00p.m. to 10:00 p.m. for the Ehime AJET New JET Welcome Party at the Matsuyama Monolith. Connect and meet with the new incoming JETs in Matsuyama and get to know them better! An RSVP confirmation is required to participate in the event.
URL:https://ehimeajet.com/events/ehime-ajet-new-jet-welcome-party/
LOCATION:マツヤマモノリス\, 湊町7-7-2\, 松山市\, Ehime\, 790-0012\, Japan
CATEGORIES:AJET Events,Parties
ATTACH;FMTTYPE=image/png:https://ehimeajet.com/wp-content/uploads/2023/07/Welcome_Party.png
ORGANIZER;CN="Ehime AJET":MAILTO:ehimeajet@gmail.com
END:VEVENT
BEGIN:VEVENT
DTSTART;TZID=Asia/Tokyo:20230730T090000
DTEND;TZID=Asia/Tokyo:20230730T153000
DTSTAMP:20260421T125046
CREATED:20230705T080918Z
LAST-MODIFIED:20230705T080920Z
UID:4735-1690707600-1690731000@ehimeajet.com
SUMMARY:Matsuyama International Meet-up
DESCRIPTION:The Ehime International Meet-up is designed to create opportunities for foreign-origin residents\, and Japanese residents\, in Ehime Prefecture to meet each other\, cook Ehime’s local delicacies\, and walk around the city. This special event aims to create opportunities for mutual understanding and connections.
URL:https://ehimeajet.com/events/matsuyama-international-meet-up/
LOCATION:Matsuyama City
CATEGORIES:Parties
ATTACH;FMTTYPE=image/jpeg:https://ehimeajet.com/wp-content/uploads/2023/07/internationalmeetup4.jpg
ORGANIZER;CN="Ehime International Meet-up":MAILTO:ehime.im2022@gmail.com
END:VEVENT
BEGIN:VEVENT
DTSTART;TZID=Asia/Tokyo:20230722T200000
DTEND;TZID=Asia/Tokyo:20230722T220000
DTSTAMP:20260421T125046
CREATED:20230622T072748Z
LAST-MODIFIED:20230622T072950Z
UID:4665-1690056000-1690063200@ehimeajet.com
SUMMARY:AJET Online Game Night
DESCRIPTION:Join us on Saturday\, July 22 from 8-10pm for a night of casual online party games such as Skribbl\, Jack Box\, Gartic Phone\, and more! \n\n\n\nWe’ll be on the Ehime JETs Discord for this event. Need an invite? Click on this link! \n\n\n\nIf you have any questions\, feel free to email ehimeajet@gmail.com.
URL:https://ehimeajet.com/events/ajet-online-game-night/
LOCATION:Ehime JETs Discord
CATEGORIES:AJET Events,Parties
ATTACH;FMTTYPE=image/png:https://ehimeajet.com/wp-content/uploads/2023/06/onlinegamenight.png
ORGANIZER;CN="Ehime AJET":MAILTO:ehimeajet@gmail.com
END:VEVENT
BEGIN:VEVENT
DTSTART;TZID=Asia/Tokyo:20230624T120000
DTEND;TZID=Asia/Tokyo:20230624T200000
DTSTAMP:20260421T125046
CREATED:20230523T150010Z
LAST-MODIFIED:20230612T012848Z
UID:4298-1687608000-1687636800@ehimeajet.com
SUMMARY:AJET Farewell Party 2023
DESCRIPTION:The 2023 AJET Farewell Party will be held at Kashima Island in Hojo\, Matsuyama! There will be a grill and some games. SIGN UP: tinyurl.com/ajetfarewell2023
URL:https://ehimeajet.com/events/ajet-farewell-2023/
LOCATION:Kashima Shrine\, 北条辻1595\, 松山市\, 愛媛県\, 〒799-2430\, Japan
CATEGORIES:AJET Events,Parties
ATTACH;FMTTYPE=image/png:https://ehimeajet.com/wp-content/uploads/2023/05/farewell2023.png
ORGANIZER;CN="Ehime AJET":MAILTO:ehimeajet@gmail.com
END:VEVENT
BEGIN:VEVENT
DTSTART;TZID=Asia/Tokyo:20230423T130000
DTEND;TZID=Asia/Tokyo:20230423T170000
DTSTAMP:20260421T125046
CREATED:20230422T150011Z
LAST-MODIFIED:20230612T012357Z
UID:3064-1682254800-1682269200@ehimeajet.com
SUMMARY:Chuyo RA Board Games Bash
DESCRIPTION:Join us Sunday\, April 23rd from 1 p.m. to 5 p.m. for Chuyo RA’s Board Games Bash! No sign up is required\, just bring 300 yen and you are in! It will be in the Matsuyama Civic Center in Shiroyama Park. See you there!
URL:https://ehimeajet.com/events/chuyo-ra-board-games-bash/
LOCATION:Matsuyama Civic Center\, 堀之内\, Matsuyama\, Ehime\, 7900007\, Japan
CATEGORIES:Parties
ATTACH;FMTTYPE=image/png:https://ehimeajet.com/wp-content/uploads/2023/04/post.png
END:VEVENT
BEGIN:VEVENT
DTSTART;TZID=Asia/Tokyo:20190323T130000
DTEND;TZID=Asia/Tokyo:20190323T150000
DTSTAMP:20260421T125046
CREATED:20190322T150040Z
LAST-MODIFIED:20230612T013010Z
UID:1420-1553346000-1553353200@ehimeajet.com
SUMMARY:Matsuyama Hanami Picnic 2019
DESCRIPTION:Join us for a picnic Saturday March 23rd at Dogo Park. We’ll be enjoying flowers and food from about 1:00 to 3:00 pm. Please bring your own food and drinks!\n\nWhat: Hanami Picnic\nWhen: March 23rd (Saturday) 1:00-3:00 pm\nWhere: Dogo Park\nAccess: Accessible by Tram
URL:https://ehimeajet.com/events/matsuyama-hanami-picnic-2019/
LOCATION:Dogo Park\, 道後公園\, 松山市\, 愛媛県\, 790-0857\, Japan
CATEGORIES:AJET Events,Parties
END:VEVENT
BEGIN:VEVENT
DTSTART;TZID=Asia/Tokyo:20190315T170000
DTEND;TZID=Asia/Tokyo:20190315T170000
DTSTAMP:20260421T125046
CREATED:20190314T150027Z
LAST-MODIFIED:20230612T013009Z
UID:1416-1552669200-1552669200@ehimeajet.com
SUMMARY:AJET Welcome Dinner 2019
DESCRIPTION:We have a new JET! Let’s welcome her with dinner at Everest Nepalese Restaurant on Okaido. We’ll be meeting March 15th after the BOE meeting. Please say your going on the event so I can make the appropriate reservation. If there is a lot of interest\, we may change restaurants to accommodate everyone.\n\nWhat: Welcome Dinner for Adri-Ann\nWhen: March 15th 2019 5:00 pm\nWhere: Everest Nepalese Restaruant (on Okaido)\n790-0004 愛媛県松山市大街道２丁目２−７ 第２香川ビル\nHow Much: The cost of dinner (average around 1200 yen)
URL:https://ehimeajet.com/events/ajet-welcome-2019/
LOCATION:Everest Nepalese Restaruant (Okaido)\, 大街道２丁目２−７ 第２香川ビル\, 松山市\, 愛媛県\, 790-0004\, Japan
CATEGORIES:AJET Events,Parties
END:VEVENT
END:VCALENDAR