BEGIN:VCALENDAR
VERSION:2.0
PRODID:-//Ehime AJET - ECPv6.15.20//NONSGML v1.0//EN
CALSCALE:GREGORIAN
METHOD:PUBLISH
X-WR-CALNAME:Ehime AJET
X-ORIGINAL-URL:https://ehimeajet.com
X-WR-CALDESC:Events for Ehime AJET
REFRESH-INTERVAL;VALUE=DURATION:PT1H
X-Robots-Tag:noindex
X-PUBLISHED-TTL:PT1H
BEGIN:VTIMEZONE
TZID:Asia/Tokyo
BEGIN:STANDARD
TZOFFSETFROM:+0900
TZOFFSETTO:+0900
TZNAME:JST
DTSTART:20230101T000000
END:STANDARD
END:VTIMEZONE
BEGIN:VEVENT
DTSTART;TZID=Asia/Tokyo:20240822T180000
DTEND;TZID=Asia/Tokyo:20240822T200000
DTSTAMP:20260424T015501
CREATED:20240821T055212Z
LAST-MODIFIED:20240821T055234Z
UID:6135-1724349600-1724356800@ehimeajet.com
SUMMARY:Welcome Party
DESCRIPTION:Welcome the new JETs with us! \n\n\n\nIt’s that time of the year again! Join us in welcoming our new JETs with good food and drinks \n\n\n\nMore details below: \n\n\n\nDress Code: Casual/business casual \n\n\n\nDate/Time: Thur\, Aug 22 from 6-8pm \n\n\n\nVenue: Rizière Beer Garden
URL:https://ehimeajet.com/events/welcome-party/
LOCATION:Riziere Beer Garden/リジェール 松山\, 2-3 Minamihoribatacho\, Matsuyama\, Ehime\, 790-0006\, Japan
ATTACH;FMTTYPE=image/jpeg:https://ehimeajet.com/wp-content/uploads/2024/08/IMG_1884.jpeg
END:VEVENT
END:VCALENDAR