BEGIN:VCALENDAR
VERSION:2.0
PRODID:-//Ehime AJET - ECPv6.15.20//NONSGML v1.0//EN
CALSCALE:GREGORIAN
METHOD:PUBLISH
X-ORIGINAL-URL:https://ehimeajet.com
X-WR-CALDESC:Events for Ehime AJET
REFRESH-INTERVAL;VALUE=DURATION:PT1H
X-Robots-Tag:noindex
X-PUBLISHED-TTL:PT1H
BEGIN:VTIMEZONE
TZID:Asia/Tokyo
BEGIN:STANDARD
TZOFFSETFROM:+0900
TZOFFSETTO:+0900
TZNAME:JST
DTSTART:20230101T000000
END:STANDARD
END:VTIMEZONE
BEGIN:VEVENT
DTSTART;TZID=Asia/Tokyo:20240914T090000
DTEND;TZID=Asia/Tokyo:20240914T120000
DTSTAMP:20260424T002235
CREATED:20240822T012429Z
LAST-MODIFIED:20240822T013015Z
UID:6144-1726304400-1726315200@ehimeajet.com
SUMMARY:Elevate Your Summer: Saijo’s Forest Adventure!
DESCRIPTION:  🌲✨ Calling All ALTs in Ehime! Get Ready for a Summer Adventure at Forest Adventure! ✨🌲 \n\n\n\n \n\n\n\nThis summer\, take a break from desk warming and dive into an exhilarating outdoor experience with Forest Adventure! Tackle thrilling zip lines\, conquer challenging obstacle courses\, and immerse yourself in the beauty of Saijo’s lush landscapes.    \n\n\n\n \n\n\n\nWhether you’re seeking an adrenaline rush or a refreshing escape into nature\, Forest Adventure offers the perfect adventure for you. Don’t miss out on this opportunity to explore\, challenge yourself\, and make unforgettable memories! \n\n\n\n   \n\n\n\n\nDate: Saturday\, September 14 from 9:00 am to 12:00 noon \n\n\n\nVenue:  Forest Adventure Saijo \n\n\n\nCost: 4\,510 yen \n\n\n\nDress Code: Activewear you don’t mind getting dirty in and work gloves (for sale at the venue if you don’t have one for 300 yen)! \n\n\n\n\n \n\n\n\n🤸‍♂️🌲💥 Mud is just nature’s glitter!   🤸‍♂️🌲💥 \n\n\n\n \n\n\n\nThe deadline to RSVP or change your RSVP is Friday\, August 30.  \n\n\n\n \n\n\n\nRSVP HERE \n\n\n\n \n\n\n\nIf you have any questions\, feel free to email ehimeajet@gmail.com or DM us on Instagram.
URL:https://ehimeajet.com/events/elevate-your-summer-saijos-forest-adventure/
LOCATION:フォレストアドベンチャー・西条\, Kawanouchi\, 486ｰ1 本谷公園内\, Saijo\, Ehime\, 〒799-1314\, Japan
ATTACH;FMTTYPE=image/png:https://ehimeajet.com/wp-content/uploads/2024/08/Beige-Modern-Paper-Texture-Discover-Nature-TravelSasa-Inspiration-Instagram-Post.png
END:VEVENT
BEGIN:VEVENT
DTSTART;TZID=Asia/Tokyo:20240921T100000
DTEND;TZID=Asia/Tokyo:20240922T140000
DTSTAMP:20260424T002235
CREATED:20240821T055851Z
LAST-MODIFIED:20240821T055901Z
UID:6141-1726912800-1727013600@ehimeajet.com
SUMMARY:Football/Soccer Tournament
DESCRIPTION:Our annual football/soccer tournament is \n\n\n\nHERE! Join us for this fun 2-day event\, perfectly timed to keep the Olympic spirit alive! \n\n\n\n• If you have a team (6 players)\, email us at ehimeajet@gmail.com with the sheet we sent out. \n\n\n\nIf you’re an individual player\, sign with in the link in our bio! You can request to be teamed with specific players if you have someone in mind\, but not enough to form a team. \n\n\n\nEach player will need to pay 1\,500 yen for both days (or half for one). Spectators will not need to pay to watch. \n\n\n\n \n\n\n\nSaturday\, September 21st @10AM-5PM \n\n\n\nSunday\, September 22nd @ 10AM-2PM
URL:https://ehimeajet.com/events/football-soccer-tournament/
LOCATION:Matsuyama Youth Center\, 12-33 Tsukiyamacho\, Matsuyama\, Ehime\, 790-0864\, Japan
ATTACH;FMTTYPE=image/jpeg:https://ehimeajet.com/wp-content/uploads/2024/08/IMG_6410.jpeg
END:VEVENT
END:VCALENDAR