BEGIN:VCALENDAR
VERSION:2.0
PRODID:-//Ehime AJET - ECPv6.15.20//NONSGML v1.0//EN
CALSCALE:GREGORIAN
METHOD:PUBLISH
X-WR-CALNAME:Ehime AJET
X-ORIGINAL-URL:https://ehimeajet.com
X-WR-CALDESC:Events for Ehime AJET
REFRESH-INTERVAL;VALUE=DURATION:PT1H
X-Robots-Tag:noindex
X-PUBLISHED-TTL:PT1H
BEGIN:VTIMEZONE
TZID:Asia/Tokyo
BEGIN:STANDARD
TZOFFSETFROM:+0900
TZOFFSETTO:+0900
TZNAME:JST
DTSTART:20220101T000000
END:STANDARD
END:VTIMEZONE
BEGIN:VEVENT
DTSTART;TZID=Asia/Tokyo:20231111T130000
DTEND;TZID=Asia/Tokyo:20231111T160000
DTSTAMP:20260424T100324
CREATED:20231108T102641Z
LAST-MODIFIED:20231108T102757Z
UID:5284-1699707600-1699718400@ehimeajet.com
SUMMARY:Ehime AJET Cooking Series: Thai Green Curry + Pad Kra Pao
DESCRIPTION:Join our special guest chef Aom from Thailand as she makes Thai Green Curry and Pad Kra Pao! It will be on November 11th from 11 to 4pm. Come hungry!
URL:https://ehimeajet.com/events/ehime-ajet-cooking-series-thai-green-curry-pad-kra-pao/
LOCATION:Ehime Seikatsu Bunka Center\, 139-2 Kitamochidamachi\, Matsuyama\, Ehime\, 790-0873\, Japan
CATEGORIES:AJET Events
ATTACH;FMTTYPE=image/png:https://ehimeajet.com/wp-content/uploads/2023/11/image.png
ORGANIZER;CN="Ehime AJET":MAILTO:ehimeajet@gmail.com
END:VEVENT
END:VCALENDAR