BEGIN:VCALENDAR
VERSION:2.0
PRODID:-//Ehime AJET - ECPv6.15.20//NONSGML v1.0//EN
CALSCALE:GREGORIAN
METHOD:PUBLISH
X-WR-CALNAME:Ehime AJET
X-ORIGINAL-URL:https://ehimeajet.com
X-WR-CALDESC:Events for Ehime AJET
REFRESH-INTERVAL;VALUE=DURATION:PT1H
X-Robots-Tag:noindex
X-PUBLISHED-TTL:PT1H
BEGIN:VTIMEZONE
TZID:Asia/Tokyo
BEGIN:STANDARD
TZOFFSETFROM:+0900
TZOFFSETTO:+0900
TZNAME:JST
DTSTART:20220101T000000
END:STANDARD
END:VTIMEZONE
BEGIN:VEVENT
DTSTART;TZID=Asia/Tokyo:20231125T100000
DTEND;TZID=Asia/Tokyo:20231125T150000
DTSTAMP:20260424T100325
CREATED:20231108T101803Z
LAST-MODIFIED:20231108T101805Z
UID:5279-1700906400-1700924400@ehimeajet.com
SUMMARY:Ehime AJET Scholarship - Figure Drawing
DESCRIPTION:Join the Ehime AJET Scholarship Committee in a figure drawing class at the Ehime Prefecture International Center (EPIC) on November 25th from 10:00 a.m. to 3 p.m. We will be fundraising for the Ehime AJET Scholarship.
URL:https://ehimeajet.com/events/ehime-ajet-scholarship-figure-drawing/
LOCATION:Ehime Prefecture International Center (EPIC)\, 1-1 Dogoichiman\, Matsuyama\, 790-0844\, Japan
CATEGORIES:AJET Events
ATTACH;FMTTYPE=image/jpeg:https://ehimeajet.com/wp-content/uploads/2023/11/1699425224845.jpg
ORGANIZER;CN="Ehime AJET":MAILTO:ehimeajet@gmail.com
END:VEVENT
END:VCALENDAR