BEGIN:VCALENDAR
VERSION:2.0
PRODID:-//Ehime AJET - ECPv6.15.20//NONSGML v1.0//EN
CALSCALE:GREGORIAN
METHOD:PUBLISH
X-WR-CALNAME:Ehime AJET
X-ORIGINAL-URL:https://ehimeajet.com
X-WR-CALDESC:Events for Ehime AJET
REFRESH-INTERVAL;VALUE=DURATION:PT1H
X-Robots-Tag:noindex
X-PUBLISHED-TTL:PT1H
BEGIN:VTIMEZONE
TZID:Asia/Tokyo
BEGIN:STANDARD
TZOFFSETFROM:+0900
TZOFFSETTO:+0900
TZNAME:JST
DTSTART:20220101T000000
END:STANDARD
END:VTIMEZONE
BEGIN:VEVENT
DTSTART;TZID=Asia/Tokyo:20231209T110000
DTEND;TZID=Asia/Tokyo:20231209T150000
DTSTAMP:20260424T113739
CREATED:20231118T141453Z
LAST-MODIFIED:20231118T141454Z
UID:5347-1702119600-1702134000@ehimeajet.com
SUMMARY:Matsuyama Ice Skating Escapade 2
DESCRIPTION:It’s finally starting to get cold\, and that means … ice skating! Some of the Kochi JETs are invading Matsuyama once again!  \n\n\n\nWhat to bring: gloves (required by the centre)\, warm socks\, festive spirit  \n\n\n\nCome and enjoy skating in Matsuyama with us!
URL:https://ehimeajet.com/events/matsuyama-ice-skating-escapade-2/
LOCATION:Iyotetsu Sports Center\, 3 Chome-9-1 Sancho\, Matsuyama\, Ehime\, 790-0914\, Japan
CATEGORIES:AJET Events,Sports Events
ATTACH;FMTTYPE=image/png:https://ehimeajet.com/wp-content/uploads/2023/11/image-2.png
END:VEVENT
END:VCALENDAR