BEGIN:VCALENDAR
VERSION:2.0
PRODID:-//Ehime AJET - ECPv6.15.20//NONSGML v1.0//EN
CALSCALE:GREGORIAN
METHOD:PUBLISH
X-WR-CALNAME:Ehime AJET
X-ORIGINAL-URL:https://ehimeajet.com
X-WR-CALDESC:Events for Ehime AJET
REFRESH-INTERVAL;VALUE=DURATION:PT1H
X-Robots-Tag:noindex
X-PUBLISHED-TTL:PT1H
BEGIN:VTIMEZONE
TZID:Asia/Tokyo
BEGIN:STANDARD
TZOFFSETFROM:+0900
TZOFFSETTO:+0900
TZNAME:JST
DTSTART:20220101T000000
END:STANDARD
END:VTIMEZONE
BEGIN:VEVENT
DTSTART;TZID=Asia/Tokyo:20230803T200000
DTEND;TZID=Asia/Tokyo:20230803T210000
DTSTAMP:20260422T073535
CREATED:20230731T060508Z
LAST-MODIFIED:20230731T060510Z
UID:4825-1691092800-1691096400@ehimeajet.com
SUMMARY:Ozugawa Matsuri 2023
DESCRIPTION:The Ozugawa Matsuri will be held in Ozu in August 3rd from 8p.m.! Come down to Ozu to see Ozu Castle lit up in a background of fireworks launched in the Ozu River.
URL:https://ehimeajet.com/events/ozugawa-matsuri-2023/
LOCATION:Nakamura\, Ozu\, 中村\, 大洲市\, 愛媛県\, 〒795-0054\, Japan
CATEGORIES:Festivals
ATTACH;FMTTYPE=image/jpeg:https://ehimeajet.com/wp-content/uploads/2023/07/maxresdefault.jpg
END:VEVENT
END:VCALENDAR