BEGIN:VCALENDAR
VERSION:2.0
PRODID:-//Ehime AJET - ECPv6.15.20//NONSGML v1.0//EN
CALSCALE:GREGORIAN
METHOD:PUBLISH
X-ORIGINAL-URL:https://ehimeajet.com
X-WR-CALDESC:Events for Ehime AJET
REFRESH-INTERVAL;VALUE=DURATION:PT1H
X-Robots-Tag:noindex
X-PUBLISHED-TTL:PT1H
BEGIN:VTIMEZONE
TZID:Asia/Tokyo
BEGIN:STANDARD
TZOFFSETFROM:+0900
TZOFFSETTO:+0900
TZNAME:JST
DTSTART:20220101T000000
END:STANDARD
END:VTIMEZONE
BEGIN:VEVENT
DTSTART;TZID=Asia/Tokyo:20230603T000000
DTEND;TZID=Asia/Tokyo:20230604T235959
DTSTAMP:20260422T044516
CREATED:20230602T150003Z
LAST-MODIFIED:20230612T012718Z
UID:3814-1685750400-1685923199@ehimeajet.com
SUMMARY:Shikoku Rugby Tournament 2023
DESCRIPTION:Join fellow Ehime JETs in challenging others in Shikoku in a fun tournament of touch rugby! We will be joined by Tokushima\, Kagawa\, and possibly Kochi AJETs in the tournament. See you all there!
URL:https://ehimeajet.com/events/shikoku-rugby-tournament-2023/
LOCATION:Shikoku University Shirasagi Sports Complex\, 川内町鶴島771‐0117\, 徳島市\, 徳島県\, 〒770-0000\, Japan
CATEGORIES:AJET Events,Sports Events
ATTACH;FMTTYPE=image/png:https://ehimeajet.com/wp-content/uploads/2023/04/2023rugbytournament.png
ORGANIZER;CN="Ehime AJET":MAILTO:ehimeajet@gmail.com
END:VEVENT
BEGIN:VEVENT
DTSTART;TZID=Asia/Tokyo:20230603T100000
DTEND;TZID=Asia/Tokyo:20230604T180000
DTSTAMP:20260422T044516
CREATED:20230602T150045Z
LAST-MODIFIED:20230612T012815Z
UID:4207-1685786400-1685901600@ehimeajet.com
SUMMARY:Uwajima Hawaiian Festival 2023
DESCRIPTION:A taste of Hawaii is coming to Ehime! Come to Uwajima for guest performances\, delicious food\, and fun activities!
URL:https://ehimeajet.com/events/uwajima-hawaiian-festival-2023/
LOCATION:Roadside Station Uwajima Kisaiya Hiroba\, 1-318-16 Bentencho\, Uwajima\, Ehime\, 798-0006\, Japan
CATEGORIES:Festivals
ATTACH;FMTTYPE=image/jpeg:https://ehimeajet.com/wp-content/uploads/2023/05/uwajimahawaiianfestival.jpg
END:VEVENT
BEGIN:VEVENT
DTSTART;TZID=Asia/Tokyo:20230611T130000
DTEND;TZID=Asia/Tokyo:20230611T170000
DTSTAMP:20260422T044516
CREATED:20230610T150030Z
LAST-MODIFIED:20230612T012831Z
UID:4300-1686488400-1686502800@ehimeajet.com
SUMMARY:AJET TTRPG: Honey Heist
DESCRIPTION:It’s HoneyCon 2017.You are going to undertake the greatest heist the world has ever seen. \n\n\n\nTwo things:One – You have a complex plan that requires precise timing.Two – You are a GODDAMN BEAR. \n\n\n\nCome play this silly and fun one-page TTRPG with your fellow JETs! \n\n\n\nSIGN UP: tinyurl.com/ajethoneyheist
URL:https://ehimeajet.com/events/ajet-ttrpg-honey-heist/
LOCATION:Imabari City International Exchange Association (ICIEA)\, 2-5-1 Minamidaimoncho\, Imabari\, 794-0027\, Japan
CATEGORIES:AJET Events
ATTACH;FMTTYPE=image/png:https://ehimeajet.com/wp-content/uploads/2023/05/honeyheist.png
ORGANIZER;CN="Ehime AJET":MAILTO:ehimeajet@gmail.com
END:VEVENT
BEGIN:VEVENT
DTSTART;TZID=Asia/Tokyo:20230617T140000
DTEND;TZID=Asia/Tokyo:20230617T210000
DTSTAMP:20260422T044517
CREATED:20230612T015404Z
LAST-MODIFIED:20230619T100223Z
UID:4485-1687010400-1687035600@ehimeajet.com
SUMMARY:Matsuyama Saturday Night Market
DESCRIPTION:Every Saturday\, there will be vendors selling food and wares throughout Okaido and Gintengai until 9pm.
URL:https://ehimeajet.com/events/matsuyama-saturday-night-market/
LOCATION:Okaido\, 790-0004
CATEGORIES:Festivals
ATTACH;FMTTYPE=image/jpeg:https://ehimeajet.com/wp-content/uploads/2023/06/doyoichi2023.jpg
END:VEVENT
BEGIN:VEVENT
DTSTART;TZID=Asia/Tokyo:20230624T120000
DTEND;TZID=Asia/Tokyo:20230624T200000
DTSTAMP:20260422T044517
CREATED:20230523T150010Z
LAST-MODIFIED:20230612T012848Z
UID:4298-1687608000-1687636800@ehimeajet.com
SUMMARY:AJET Farewell Party 2023
DESCRIPTION:The 2023 AJET Farewell Party will be held at Kashima Island in Hojo\, Matsuyama! There will be a grill and some games. SIGN UP: tinyurl.com/ajetfarewell2023
URL:https://ehimeajet.com/events/ajet-farewell-2023/
LOCATION:Kashima Shrine\, 北条辻1595\, 松山市\, 愛媛県\, 〒799-2430\, Japan
CATEGORIES:AJET Events,Parties
ATTACH;FMTTYPE=image/png:https://ehimeajet.com/wp-content/uploads/2023/05/farewell2023.png
ORGANIZER;CN="Ehime AJET":MAILTO:ehimeajet@gmail.com
END:VEVENT
BEGIN:VEVENT
DTSTART;TZID=Asia/Tokyo:20230624T140000
DTEND;TZID=Asia/Tokyo:20230624T210000
DTSTAMP:20260422T044517
CREATED:20230619T100316Z
LAST-MODIFIED:20230619T100317Z
UID:4541-1687615200-1687640400@ehimeajet.com
SUMMARY:Matsuyama Saturday Night Market
DESCRIPTION:Every Saturday\, there will be vendors selling food and wares throughout Okaido and Gintengai until 9pm.
URL:https://ehimeajet.com/events/matsuyama-saturday-night-market-2/
LOCATION:Okaido\, 790-0004
CATEGORIES:Festivals
ATTACH;FMTTYPE=image/jpeg:https://ehimeajet.com/wp-content/uploads/2023/06/doyoichi2023.jpg
END:VEVENT
BEGIN:VEVENT
DTSTART;TZID=Asia/Tokyo:20230625T130000
DTEND;TZID=Asia/Tokyo:20230625T170000
DTSTAMP:20260422T044517
CREATED:20230524T150033Z
LAST-MODIFIED:20230612T012918Z
UID:4305-1687698000-1687712400@ehimeajet.com
SUMMARY:AJET Cooking: Khao Poon + Egg Rolls
DESCRIPTION:Join us for the very first in our series of cooking lessons! \n\n\n\nOur chef to start things off will be Preston Vue. We will be learning how to make khao poon and egg rolls!SIGN UP: tinyurl.com/ajetcooking*Sign ups are now closed. If you want to be put on the waitlist\, please email ehimeajet@gmail.com.
URL:https://ehimeajet.com/events/ajet-cooking-1/
LOCATION:Ehime Seikatsu Bunka Center\, 139-2 Kitamochidamachi\, Matsuyama\, Ehime\, 790-0873\, Japan
CATEGORIES:AJET Events
ATTACH;FMTTYPE=image/png:https://ehimeajet.com/wp-content/uploads/2023/05/Cooking-1.png
ORGANIZER;CN="Ehime AJET":MAILTO:ehimeajet@gmail.com
END:VEVENT
END:VCALENDAR