BEGIN:VCALENDAR
VERSION:2.0
PRODID:-//Ehime AJET - ECPv6.15.20//NONSGML v1.0//EN
CALSCALE:GREGORIAN
METHOD:PUBLISH
X-WR-CALNAME:Ehime AJET
X-ORIGINAL-URL:https://ehimeajet.com
X-WR-CALDESC:Events for Ehime AJET
REFRESH-INTERVAL;VALUE=DURATION:PT1H
X-Robots-Tag:noindex
X-PUBLISHED-TTL:PT1H
BEGIN:VTIMEZONE
TZID:Asia/Tokyo
BEGIN:STANDARD
TZOFFSETFROM:+0900
TZOFFSETTO:+0900
TZNAME:JST
DTSTART:20220101T000000
END:STANDARD
END:VTIMEZONE
BEGIN:VEVENT
DTSTART;TZID=Asia/Tokyo:20230715T140000
DTEND;TZID=Asia/Tokyo:20230715T210000
DTSTAMP:20260422T074152
CREATED:20230619T100636Z
LAST-MODIFIED:20230619T100637Z
UID:4547-1689429600-1689454800@ehimeajet.com
SUMMARY:Matsuyama Saturday Night Market
DESCRIPTION:Every Saturday\, there will be vendors selling food and wares throughout Okaido and Gintengai until 9pm.
URL:https://ehimeajet.com/events/matsuyama-saturday-night-market-5/
LOCATION:Okaido\, 790-0004
CATEGORIES:Festivals
ATTACH;FMTTYPE=image/jpeg:https://ehimeajet.com/wp-content/uploads/2023/06/doyoichi2023.jpg
END:VEVENT
END:VCALENDAR