BEGIN:VCALENDAR
VERSION:2.0
PRODID:-//Ehime AJET - ECPv6.15.20//NONSGML v1.0//EN
CALSCALE:GREGORIAN
METHOD:PUBLISH
X-WR-CALNAME:Ehime AJET
X-ORIGINAL-URL:https://ehimeajet.com
X-WR-CALDESC:Events for Ehime AJET
REFRESH-INTERVAL;VALUE=DURATION:PT1H
X-Robots-Tag:noindex
X-PUBLISHED-TTL:PT1H
BEGIN:VTIMEZONE
TZID:Asia/Tokyo
BEGIN:STANDARD
TZOFFSETFROM:+0900
TZOFFSETTO:+0900
TZNAME:JST
DTSTART:20220101T000000
END:STANDARD
END:VTIMEZONE
BEGIN:VEVENT
DTSTART;TZID=Asia/Tokyo:20230722T100000
DTEND;TZID=Asia/Tokyo:20230724T150000
DTSTAMP:20260422T074144
CREATED:20230521T150031Z
LAST-MODIFIED:20230612T012937Z
UID:4214-1690020000-1690210800@ehimeajet.com
SUMMARY:Uwajima Ushi-Oni Festival 2023
DESCRIPTION:The Uwajima Ushi-Oni Festival is one of Ehime’s biggest events\, featuring the famous ushi-oni\, or “cow ogre.” The highlight of the festival is the parade of ushi-oni floats throughout Uwajima\, some will even visit local residents and purify their home!
URL:https://ehimeajet.com/events/uwajima-ushi-oni-festival-2023/
LOCATION:Kisaiya Road (Ushi-Oni Street)\, Chuocho\, Uwajima\, Ehime\, 798-0040\, Japan
CATEGORIES:Festivals
ATTACH;FMTTYPE=image/png:https://ehimeajet.com/wp-content/uploads/2023/05/ushioni.png
END:VEVENT
BEGIN:VEVENT
DTSTART;TZID=Asia/Tokyo:20230722T100000
DTEND;TZID=Asia/Tokyo:20230724T160000
DTSTAMP:20260422T074144
CREATED:20230612T015942Z
LAST-MODIFIED:20230612T020251Z
UID:4492-1690020000-1690214400@ehimeajet.com
SUMMARY:Matsuyama Youth Center English Camp
DESCRIPTION:The Matsuyama Youth Center is hosting an English camp this summer and are asking for volunteers to help run it! To sign up\, add their official LINE account as friend!
URL:https://ehimeajet.com/events/matsuyama-youth-center-english-camp/
LOCATION:Matsuyama Youth Center\, 12-33 Tsukiyamacho\, Matsuyama\, Ehime\, 790-0864\, Japan
ATTACH;FMTTYPE=image/jpeg:https://ehimeajet.com/wp-content/uploads/2023/06/englishcamp2023.jpg
END:VEVENT
END:VCALENDAR